BEGIN:VCALENDAR
VERSION:2.0
PRODID:-//Orgelland Carinthia - ECPv6.15.20//NONSGML v1.0//EN
CALSCALE:GREGORIAN
METHOD:PUBLISH
X-ORIGINAL-URL:https://www.orgelland.at
X-WR-CALDESC:Veranstaltungen für Orgelland Carinthia
REFRESH-INTERVAL;VALUE=DURATION:PT1H
X-Robots-Tag:noindex
X-PUBLISHED-TTL:PT1H
BEGIN:VTIMEZONE
TZID:Europe/Vienna
BEGIN:DAYLIGHT
TZOFFSETFROM:+0100
TZOFFSETTO:+0200
TZNAME:CEST
DTSTART:20250330T010000
END:DAYLIGHT
BEGIN:STANDARD
TZOFFSETFROM:+0200
TZOFFSETTO:+0100
TZNAME:CET
DTSTART:20251026T010000
END:STANDARD
BEGIN:DAYLIGHT
TZOFFSETFROM:+0100
TZOFFSETTO:+0200
TZNAME:CEST
DTSTART:20260329T010000
END:DAYLIGHT
BEGIN:STANDARD
TZOFFSETFROM:+0200
TZOFFSETTO:+0100
TZNAME:CET
DTSTART:20261025T010000
END:STANDARD
BEGIN:DAYLIGHT
TZOFFSETFROM:+0100
TZOFFSETTO:+0200
TZNAME:CEST
DTSTART:20270328T010000
END:DAYLIGHT
BEGIN:STANDARD
TZOFFSETFROM:+0200
TZOFFSETTO:+0100
TZNAME:CET
DTSTART:20271031T010000
END:STANDARD
END:VTIMEZONE
BEGIN:VEVENT
DTSTART;TZID=Europe/Vienna:20261008T190000
DTEND;TZID=Europe/Vienna:20261008T203000
DTSTAMP:20260422T011504
CREATED:20260407T180057Z
LAST-MODIFIED:20260407T180136Z
UID:3162-1791486000-1791491400@www.orgelland.at
SUMMARY:Crossing Borders …!
DESCRIPTION:Geistliche Abendmusik 2026 \n\n\n\nDonnerstag\, 8. Oktober 2026\, Beginn: 19:00Alwin Miller\, Saxophon und an der Reil-Orgel: Martin-Ernst Lehmann \n\n\n\n\n\n\n\n\n\n\n\n\n\nProgramm: \n\n\n\nSax meets Organ\, Bach meets Jazz\, Fixed meets Improvised \n\n\n\n \n\n\n\nDer in Wien-Floridsdorf aufgewachsene Jazzmusiker und Instrumentalpädagoge Alwin Miller hat Saxophon Popularmusik an der Universität für Musik und darstellende Kunst Wien studiert. Nach selbständiger Tätigkeit als Musiker und Instrumentallehrer seit 2020 an der Musikschule Schwechat tätig. Seit 2022 im Netzwerk proPOP für die Popularmusikaus- und fortbildung in der Evangelischen Kirche in Österreich mitverantwortlich. \n\n\n\nMartin Lehmann wurde 1985 in Darmstadt südlich von Frankfurt am Main in Deutschland geboren. Nach erstem Orgelunterricht beim dortigen Dekanatskirchenmusiker Wolfgang Kleber folgte ein Kirchenmusikstudium an der Hochschule für Kirchenmusik in Heidelberg. Dort wurde er von Prof. Dr. Martin Sander und Stefan Göttelmann in Orgel\, von Prof. Dr. Gerhardt Luchterhandt und Stefan Göttelmann in Orgelimprovisation sowie von Prof. Bernd Stegmann und Andreas Schneidewind in Chorleitung unterrichtet. Nach Abschluss des Kirchenmusikstudiums mit dem A-Diplom für Evangelische Kirchenmusiker folgte ein zweijähriges künstlerisches Aufbaustudium im Fach Orgelimprovisation bei Prof. Tomasz Adam Nowak an der Hochschule für Musik in Detmold. Nach Abschluss seiner Studien und ersten beruflichen Erfahrungen in Wunstorf bei Hannover und Eschwege bei Kassel ist Martin Lehmann seit Juni 2016 als Diözesankantor für die Evangelische Kirche in Kärnten und Osttirol mit Dienstsitz an der Johanneskirche Klagenfurt tätig.
URL:https://www.orgelland.at/konzerte/crossing-borders/
CATEGORIES:Geistliche Abendmusik Villach,Konzert
ATTACH;FMTTYPE=image/jpeg:https://www.orgelland.at/wp-content/uploads/2026/04/Alwin-Miller-c-Thomas-Lukaschitz.jpg
END:VEVENT
END:VCALENDAR