BEGIN:VCALENDAR
VERSION:2.0
PRODID:-//Orgelland Carinthia - ECPv6.15.20//NONSGML v1.0//EN
CALSCALE:GREGORIAN
METHOD:PUBLISH
X-ORIGINAL-URL:https://www.orgelland.at
X-WR-CALDESC:Veranstaltungen für Orgelland Carinthia
REFRESH-INTERVAL;VALUE=DURATION:PT1H
X-Robots-Tag:noindex
X-PUBLISHED-TTL:PT1H
BEGIN:VTIMEZONE
TZID:Europe/Vienna
BEGIN:DAYLIGHT
TZOFFSETFROM:+0100
TZOFFSETTO:+0200
TZNAME:CEST
DTSTART:20250330T010000
END:DAYLIGHT
BEGIN:STANDARD
TZOFFSETFROM:+0200
TZOFFSETTO:+0100
TZNAME:CET
DTSTART:20251026T010000
END:STANDARD
BEGIN:DAYLIGHT
TZOFFSETFROM:+0100
TZOFFSETTO:+0200
TZNAME:CEST
DTSTART:20260329T010000
END:DAYLIGHT
BEGIN:STANDARD
TZOFFSETFROM:+0200
TZOFFSETTO:+0100
TZNAME:CET
DTSTART:20261025T010000
END:STANDARD
BEGIN:DAYLIGHT
TZOFFSETFROM:+0100
TZOFFSETTO:+0200
TZNAME:CEST
DTSTART:20270328T010000
END:DAYLIGHT
BEGIN:STANDARD
TZOFFSETFROM:+0200
TZOFFSETTO:+0100
TZNAME:CET
DTSTART:20271031T010000
END:STANDARD
END:VTIMEZONE
BEGIN:VEVENT
DTSTART;TZID=Europe/Vienna:20260805T150000
DTEND;TZID=Europe/Vienna:20260805T190000
DTSTAMP:20260421T220937
CREATED:20260407T171719Z
LAST-MODIFIED:20260410T183245Z
UID:3145-1785942000-1785956400@www.orgelland.at
SUMMARY:„Zing-in“ - wir singen gemeinsam!
DESCRIPTION:Geistliche Abendmusik 2026 \n\n\n\nDonnerstag\, 5. August 2026\, Beginn: 17:00!!!Ab 15:00 Programm für Kinder mit der „Doe-Orgel“ aus den Niederlanden. \n\n\n\nan der Reil-Orgel: Klaus Kuchling und Manfred Pernull \n\n\n\n©Ksenia Reisinger\n\n\n\nProgramm: \n\n\n\nBeginn: 15:00 mit dem Bau einer Orgel. Gemeinsam mit Kindern und allen die darauf Lust haben wird eine echte Orgel gemeinsam zusammengebaut. Noch dazu eine Orgel aus den Niederlanden! Und danach wird damit auch Musik gemacht! Gesamtdauer: ca. 75′ \n\n\n\n \n\n\n\nWeiter gehts um 17:00 mit dem „Zing-in“ \n\n\n\n \n\n\n\n„Zing-in“ in niederländische Sprache für Niederländische Urlauber und  -Menschen\, die hier wohnen. Singen schreibt man auf Niederländisch mit Z =zingen. \n\n\n\n \n\n\n\nAlsjeblieft – Dankjewel  \n\n\n\nZing-in in de Nederlanse taal voor onze Nederlandse vakantiegangers en iedereen\, die interesse heeft. Groot en klein zijn hartelijk welkom.  \n\n\n\nKlaus Kuchling en Manfred Pernull spelen op het prachtige Reil-orgel\, gebouwd door de Firma Reil uit Heerde en begeleiden ons gezang.  \n\n\n\nDaarna is er gelegenheid bij een hapje en een drankje met elkaar in gesprek te komen.  \n\n\n\nBegin 17.00 uur  \n\n\n\nVrijwiige donatie  \n\n\n\n \n\n\n\n            Bitteschön – Dankeschön  \n\n\n\nSing-in in der Niederländischen Sprache für unsere Urlauber und alle\, die interessiert sind. Groß und Klein sind herzlich Willkommen.  \n\n\n\nKlaus Kuchling und Manfred Pernull spielen die wunderschöne (berühmte\, …..)\, Reil-Orgel\, erbaut von der Firma Reil aus Heerde und begleiten unser Singen.  \n\n\n\nAnschließend gibt es die Möglichkeit bei Imbiss und Getränk einander zu begegnen. 
URL:https://www.orgelland.at/konzerte/zing-in-wir-singen-gemeinsam/
CATEGORIES:Geistliche Abendmusik Villach,Konzert
ATTACH;FMTTYPE=image/webp:https://www.orgelland.at/wp-content/uploads/2026/04/814700_artikeldetail-max_1Au4nT_lD7eWn.webp
END:VEVENT
BEGIN:VEVENT
DTSTART;TZID=Europe/Vienna:20260813T190000
DTEND;TZID=Europe/Vienna:20260813T203000
DTSTAMP:20260421T220938
CREATED:20260407T174053Z
LAST-MODIFIED:20260407T175155Z
UID:3149-1786647600-1786653000@www.orgelland.at
SUMMARY:Colors of an Organ
DESCRIPTION:Geistliche Abendmusik 2026 \n\n\n\nDonnerstag\, 13. August 2026\, Beginn: 19:00an der Reil-Orgel: Willibald Guggenmos/CH \n\n\n\nWillibald Guggenmos an der grossen Orgel der Stiftskirche St. GallenSt. Gallen\, den 26.02.2018Copyright: Priska Ketterer Luzern\n\n\n\nProgramm: \n\n\n\nJohann Sebastian Bach (1685-1750)Präludium f-moll BWV 534/1Ich ruf zu dir\, Herr Jesu Christ BWV 639Fuge f-moll BWV 534/2 \n\n\n\nJohann Pachelbel (1653-1706) Aria quarta aus Hexachordum Apollinis \n\n\n\nJacques van Oortmerssen (1950-2015)Psalm 77 \n\n\n\nJoseph Rheinberger (1839-1901)Cantilène \n\n\n\nMax Reger (1873-1916)Introduction und Passacaglia d-moll
URL:https://www.orgelland.at/konzerte/colors-of-an-organ/
CATEGORIES:Geistliche Abendmusik Villach,Konzert
ATTACH;FMTTYPE=image/jpeg:https://www.orgelland.at/wp-content/uploads/2024/07/WILLIBALD_GUGGENMOS_18-scaled.jpg
END:VEVENT
BEGIN:VEVENT
DTSTART;TZID=Europe/Vienna:20260813T190000
DTEND;TZID=Europe/Vienna:20260813T203000
DTSTAMP:20260421T220938
CREATED:20260407T174656Z
LAST-MODIFIED:20260408T183631Z
UID:3152-1786647600-1786653000@www.orgelland.at
SUMMARY:„La Strada“ 
DESCRIPTION:Geistliche Abendmusik 2026 \n\n\n\nDonnerstag\, 13. August 2026\, Beginn: 19:00Carinthia SaxophonquartettGilbert Sabitzer\, Gerhard Lippauer\, Rudolf Kaimbacher\, Günter Lenart   \n\n\n\n\n\n\n\nProgramm: \n\n\n\nMusik von Nino Rota\, George Gershwin\, u. a. 
URL:https://www.orgelland.at/konzerte/la-strada/
CATEGORIES:Geistliche Abendmusik Villach,Konzert
ATTACH;FMTTYPE=image/jpeg:https://www.orgelland.at/wp-content/uploads/2026/04/CSQ_foto_gerhard_maurer__MGL7064_2-scaled.jpg
END:VEVENT
END:VCALENDAR