BEGIN:VCALENDAR
VERSION:2.0
PRODID:-//Orgelland Carinthia - ECPv6.15.20//NONSGML v1.0//EN
CALSCALE:GREGORIAN
METHOD:PUBLISH
X-WR-CALNAME:Orgelland Carinthia
X-ORIGINAL-URL:https://www.orgelland.at
X-WR-CALDESC:Veranstaltungen für Orgelland Carinthia
REFRESH-INTERVAL;VALUE=DURATION:PT1H
X-Robots-Tag:noindex
X-PUBLISHED-TTL:PT1H
BEGIN:VTIMEZONE
TZID:Europe/Vienna
BEGIN:DAYLIGHT
TZOFFSETFROM:+0100
TZOFFSETTO:+0200
TZNAME:CEST
DTSTART:20240331T010000
END:DAYLIGHT
BEGIN:STANDARD
TZOFFSETFROM:+0200
TZOFFSETTO:+0100
TZNAME:CET
DTSTART:20241027T010000
END:STANDARD
BEGIN:DAYLIGHT
TZOFFSETFROM:+0100
TZOFFSETTO:+0200
TZNAME:CEST
DTSTART:20250330T010000
END:DAYLIGHT
BEGIN:STANDARD
TZOFFSETFROM:+0200
TZOFFSETTO:+0100
TZNAME:CET
DTSTART:20251026T010000
END:STANDARD
BEGIN:DAYLIGHT
TZOFFSETFROM:+0100
TZOFFSETTO:+0200
TZNAME:CEST
DTSTART:20260329T010000
END:DAYLIGHT
BEGIN:STANDARD
TZOFFSETFROM:+0200
TZOFFSETTO:+0100
TZNAME:CET
DTSTART:20261025T010000
END:STANDARD
END:VTIMEZONE
BEGIN:VEVENT
DTSTART;TZID=Europe/Vienna:20251114T190000
DTEND;TZID=Europe/Vienna:20251114T203000
DTSTAMP:20260425T143023
CREATED:20250706T090930Z
LAST-MODIFIED:20250712T103621Z
UID:2604-1763146800-1763152200@www.orgelland.at
SUMMARY:"HIMMELwärts …"
DESCRIPTION:GEISTLICHE ABENDMUSIK VILLACH 2025 \n\n\n\nFreitag\, 14. November 2025\, 19:00Evangelische Kirche im Stadtpark\, Villach \n\n\n\nKlaus Kuchling • Orgel \n\n\n\n\n\n\n\nAm Programm stehen Werke\, die sich mit dem Ende des Lebens\, dem Ende der diesseitigen Welt aber ebenso mit dem Jenseits\, dem Himmel und der Ewigkeit beschäftigen. Orgelmusik von Olivier Messiaen\, Theodore Dubois\, Jean Langlais\, Franz Schmidt u. a. verheißen einen Abend mit apokalyptischem Tiefgang.
URL:https://www.orgelland.at/konzerte/in-paradisum/
ATTACH;FMTTYPE=image/jpeg:https://www.orgelland.at/wp-content/uploads/2024/09/DSC_1794-kleiner.jpg
END:VEVENT
BEGIN:VEVENT
DTSTART;TZID=Europe/Vienna:20251129T113000
DTEND;TZID=Europe/Vienna:20251129T120000
DTSTAMP:20260425T143023
CREATED:20251119T204751Z
LAST-MODIFIED:20251129T064257Z
UID:2752-1764415800-1764417600@www.orgelland.at
SUMMARY:Eine halbe Stunde für die Seele
DESCRIPTION:Samstag\, 29. November 2025\, Beginn: 11:30Stadtpfarrkirche St. Egid\, Klagenfurt \n\n\n\nStudierende der GMPU – Orgel \n\n\n\nFreier Eintritt. Spenden erbeten.Veranstalter: Stadtpfarre St. Egid in Zusammenarbeit mit Orgelland Carinthia. \n\n\n\nVeranstaltungsreihe: Eine halbe Stunde für die Seele \n\n\n\n\n\n\n\n\n\n\n\n\n\n\nProgramm: \n\n\n\nJohann Sebastian Bach (1685-1750)Präludium und Fuge d-Moll BWV 539an der Rieger Kloss-Orgel: Sviatoslava Kovtyk \n\n\n\nJohann Sebastian Bach (1685-1750)aus dem Orgelbüchlein:Gott\, durch deine Güte BWV 600 \n\n\n\nFughetta super:Allein Gott in der Höh‘ sei Ehr‘ BWV 677 \n\n\n\nDieterich Buxtehude (1637-1707)Herr Christ\, der eine Gottes Sohn BuxWV 191an der Rieger Kloss-Orgel: Gudrun Kattnig \n\n\n\n \n\n\n\nSamuel Scheidt (1587-1654)Hymnus de Adventu Domini: Veni redemptor gentium SSWV 149Versus 1Versus 2 – Canto fermo in SopranoVersus 3 – Canto fermo in AltoVersus 4 – Canto fermo in TenoreVersus 5 – Canto fermo in Bassoan der Rieger Kloss-Orgel: Alois Gaggl \n\n\n\n \n\n\n\n \n\n\n\nCésar Franck (1822-1890)aus L‘ Organiste:Sortiean der Rieger Kloss-Orgel: Stefanie Messner \n\n\n\n \n\n\n\n \n\n\n\n\nInstrument\n\n\n\nRieger-Kloss 1992 1986\, III/57
URL:https://www.orgelland.at/konzerte/eine-halbe-stunde-fuer-die-seele-8/
LOCATION:Stadtpfarrkirche St. Egid\, Pfarrplatz 7\, Klagenfurt\, 9020\, Österreich
ATTACH;FMTTYPE=image/jpeg:https://www.orgelland.at/wp-content/uploads/2023/11/Nun_komm_der_Heiden_Heiland_1524-e1701601463246.jpg
END:VEVENT
END:VCALENDAR