BEGIN:VCALENDAR
VERSION:2.0
PRODID:-//Orgelland Carinthia - ECPv6.15.20//NONSGML v1.0//EN
CALSCALE:GREGORIAN
METHOD:PUBLISH
X-ORIGINAL-URL:https://www.orgelland.at
X-WR-CALDESC:Veranstaltungen für Orgelland Carinthia
REFRESH-INTERVAL;VALUE=DURATION:PT1H
X-Robots-Tag:noindex
X-PUBLISHED-TTL:PT1H
BEGIN:VTIMEZONE
TZID:Europe/Vienna
BEGIN:DAYLIGHT
TZOFFSETFROM:+0100
TZOFFSETTO:+0200
TZNAME:CEST
DTSTART:20240331T010000
END:DAYLIGHT
BEGIN:STANDARD
TZOFFSETFROM:+0200
TZOFFSETTO:+0100
TZNAME:CET
DTSTART:20241027T010000
END:STANDARD
BEGIN:DAYLIGHT
TZOFFSETFROM:+0100
TZOFFSETTO:+0200
TZNAME:CEST
DTSTART:20250330T010000
END:DAYLIGHT
BEGIN:STANDARD
TZOFFSETFROM:+0200
TZOFFSETTO:+0100
TZNAME:CET
DTSTART:20251026T010000
END:STANDARD
BEGIN:DAYLIGHT
TZOFFSETFROM:+0100
TZOFFSETTO:+0200
TZNAME:CEST
DTSTART:20260329T010000
END:DAYLIGHT
BEGIN:STANDARD
TZOFFSETFROM:+0200
TZOFFSETTO:+0100
TZNAME:CET
DTSTART:20261025T010000
END:STANDARD
END:VTIMEZONE
BEGIN:VEVENT
DTSTART;TZID=Europe/Vienna:20250912T190000
DTEND;TZID=Europe/Vienna:20250912T203000
DTSTAMP:20260425T173151
CREATED:20250706T083225Z
LAST-MODIFIED:20250712T103502Z
UID:2594-1757703600-1757709000@www.orgelland.at
SUMMARY:„Hear us\, oh father“
DESCRIPTION:GEISTLICHE ABENDMUSIK VILLACH 2025 \n\n\n\nFreitag\, 12. September 2025\, 19:00Evangelische Kirche im Stadtpark\, Villach \n\n\n\nMarilene Novak • Sopran\, Roman Krainz • Violine\, Ferdinand Bambico • Orgel \n\n\n\n\n\n\n\nProgramm: \n\n\n\n\n\nWerke von J. S. Bach\, G. F. Händel\, E. Grieg\, Santiago\, G. Holst u.a.
URL:https://www.orgelland.at/konzerte/hear-us-oh-father/
ATTACH;FMTTYPE=image/jpeg:https://www.orgelland.at/wp-content/uploads/2024/09/Marilene_aktuell.jpg
END:VEVENT
END:VCALENDAR