BEGIN:VCALENDAR
VERSION:2.0
PRODID:-//Orgelland Carinthia - ECPv6.15.20//NONSGML v1.0//EN
CALSCALE:GREGORIAN
METHOD:PUBLISH
X-ORIGINAL-URL:https://www.orgelland.at
X-WR-CALDESC:Veranstaltungen für Orgelland Carinthia
REFRESH-INTERVAL;VALUE=DURATION:PT1H
X-Robots-Tag:noindex
X-PUBLISHED-TTL:PT1H
BEGIN:VTIMEZONE
TZID:Europe/Vienna
BEGIN:DAYLIGHT
TZOFFSETFROM:+0100
TZOFFSETTO:+0200
TZNAME:CEST
DTSTART:20240331T010000
END:DAYLIGHT
BEGIN:STANDARD
TZOFFSETFROM:+0200
TZOFFSETTO:+0100
TZNAME:CET
DTSTART:20241027T010000
END:STANDARD
BEGIN:DAYLIGHT
TZOFFSETFROM:+0100
TZOFFSETTO:+0200
TZNAME:CEST
DTSTART:20250330T010000
END:DAYLIGHT
BEGIN:STANDARD
TZOFFSETFROM:+0200
TZOFFSETTO:+0100
TZNAME:CET
DTSTART:20251026T010000
END:STANDARD
BEGIN:DAYLIGHT
TZOFFSETFROM:+0100
TZOFFSETTO:+0200
TZNAME:CEST
DTSTART:20260329T010000
END:DAYLIGHT
BEGIN:STANDARD
TZOFFSETFROM:+0200
TZOFFSETTO:+0100
TZNAME:CET
DTSTART:20261025T010000
END:STANDARD
END:VTIMEZONE
BEGIN:VEVENT
DTSTART;TZID=Europe/Vienna:20250711T190000
DTEND;TZID=Europe/Vienna:20250711T203000
DTSTAMP:20260425T203513
CREATED:20250706T082402Z
LAST-MODIFIED:20250712T163629Z
UID:2588-1752260400-1752265800@www.orgelland.at
SUMMARY:Eine musikalische Europareise 
DESCRIPTION:GEISTLICHE ABENDMUSIK VILLACH 2025 \n\n\n\nFreitag\, 11. Juli 2025\, 19:00Evangelische Kirche im Stadtpark\, Villach \n\n\n\nLukas Euler • Orgel \n\n\n\nFotoaufnahmen während des Deutschen Musikwettbewerbs Wertungsrunde Orgel am 06.08.2022 in der Kirche St. Simon und Judas in Hennef\, ©https://heikefischer-fotografie.de\n\n\n\nProgramm: \n\n\n\nNikolaus Bruhns (1665 – 1697) Praeludium in G \n\n\n\nGeorg Böhm (1661 – 1733) Choralbearbeitung „Vater unser im Himmelreich“ \n\n\n\nJohann Sebastian Bach (1685 – 1750) Präludium und Fuge a-Moll BWV 543 \n\n\n\nJan Pieterszoon Sweelinck (1562-1621) Psalm 116: Ick hebb’ den Heer lief\, SwWV 313 \n\n\n\nNicolas de Grigny (1672 – 1703)Veni creator spiritus1. Veni Creator en taille à 5 (Plein jeu)2. Fugue à 53. Duo4. Récit de Cromorne5. Dialogue sur les grands Jeux  \n\n\n\nJuan Cabanilles (1644 – 1712) Tiento de Batalla quinto tono Punto Baxo  \n\n\n\nVater unser – gemeinsam gesungen  \n\n\n\nGuy Bovet: Salamanca(*1942)  \n\n\n\n \n\n\n\nLukas Euler  \n\n\n\nLukas Euler\, geboren 1996 in Neustadt/Weinstraße\, ist seit 2022 Kirchenmusiker an der Pauluskirche Darmstadt und seit November 2023 als Gastprofessor für Orgel an der Hochschule für Musik und Darstellende Kunst Frankfurt tätig. Zudem ist er Dozent für Orgel am Institut für Kirchenmusik des Bistums Mainz und geht einer regen Konzerttätigkeit in Deutschland sowie im Europäischen Ausland nach.   \n\n\n\nVon 2020 bis 2022 war er Assistenzorganist an der Thomaskirche Leipzig und Lehrkraft für Orgel am Forum Thomanum Leipzig.  \n\n\n\nNach drei 1. Bundespreisen bei „Jugend musiziert“ wurde er Preisträger mehrerer internationaler Orgelwettbewerbe\, darunter Mikail-Tariverdiev Orgelwettbewerb Kaliningrad/RUS\, Northern-Ireland-International-Organ-Competition\, Hermann-Schroeder-Wettbewerb Trier\, Orgelwettbewerb FUGATO Bad Homburg\, Concours d’orgue Dudelange und Kurt-Boßler-Wettbewerb Freiburg. Er erhielt Stipendien beim Deutschen Musikwettbewerb (2022)\, beim Evangelischen Studienwerk Villigst und bei der Jürgen-Ponto-Stiftung. Konzertreisen führten ihn neben zentralen Kirchen in Deutschland (Stiftskirche Stuttgart\, St. Lorenz Nürnberg\, Nikolaikirche Leipzig\, Dome zu Worms\, Fulda und Essen) nach Belgien\, Großbritannien\, Frankreich\, Österreich und Russland.   \n\n\n\nDas Studium der Kirchenmusik\, Klavier und Orgel (Meisterklassenexamen) absolvierte er mit mehreren Auszeichnungen in Freiburg und Leipzig. Schüler seiner Orgelklasse sind Preisträger mehrerer Wettbewerbe (u. a. Bundeswettbewerb „Jugend musiziert“).  
URL:https://www.orgelland.at/konzerte/eine-musikalische-europareise/
ATTACH;FMTTYPE=image/jpeg:https://www.orgelland.at/wp-content/uploads/2025/06/220806_DMW_Orgel_FF_4452_DMW_HeikeFischer_kl-scaled.jpg
END:VEVENT
BEGIN:VEVENT
DTSTART;TZID=Europe/Vienna:20250711T203000
DTEND;TZID=Europe/Vienna:20250711T220000
DTSTAMP:20260425T203514
CREATED:20250709T170533Z
LAST-MODIFIED:20250712T163855Z
UID:2613-1752265800-1752271200@www.orgelland.at
SUMMARY:ORGEL OHNE GRENZEN
DESCRIPTION:FREITAG/PETEK 11.7.2025 20.30 \n\n\n\nPfarrkirche St. Jakob / Rosental – Farna cerkev Šentjakob v Rožu \n\n\n\n\nArjan Breukhoven (NL) – Orgel \n\n\n\nFreiwillige Spenden erbeten – prostovoljni prispevki zaželjeni \n\n\n\n\n\n\n\n\n\n\n\nProgramm \n\n\n\nImprovisation “Alle Menschen werden Brüder”             | A. Breukhoven \n\n\n\nSonata del Monasterio de Montserrat                           | A. Viola \n\n\n\nActus Tragicus “Gottes Zeit is die Allerbeste Zeit”           | J.S. Bach; arr. A. Guilmant \n\n\n\nFuge mit den tanzenden Füßen                                     | J.S. Bach \n\n\n\nCantilena                                                                     | Th. Salomé \n\n\n\nLibertango                                                                   | A. Piazzolla; arr. A. Breukhoven \n\n\n\nThema aus Schindler’s List                                            | J. Williams \n\n\n\nAn der schönen blauen Donau                                      | Joh. Strauss; arr. A. Breukhoven \n\n\n\nAdagio                                                                        | T. Albinoni \n\n\n\nLargo al Factotum                                                        | G. Rossini; arr. A. Breukhoven \n\n\n\nMusic                                                                          | J. Miles; arr. A. Breukhoven \n\n\n\nPower of Life                                                               | M.L. Takle \n\n\n\n\n\n\n\nLebenslauf Arjan Breukhoven \n\n\n\nArjan Breukhoven wurde am 18. Mai 1962 geboren. Zunächst studierte er Orgel bei Jan Brandwijk und später Orgel- und Kirchenmusik am Royal Conservatory in Den Haag\, wo Wim van Beek und Bert Matter seine Lehrer waren. Am Konservatorium studierte Arjan Breukhoven Klavier bei Albert Brussee. Er studierte auch Gesang\, Improvisation und Chorleitung. Während dieser Konservatoriumszeit wurde er auch vom berühmten französischen Organisten und Pädagogen Gaston Litaize unterrichtet. Er studierte außerdem Chor- und Orchesterleitung an der Prof. Kurt Thomas Stiftung.
URL:https://www.orgelland.at/konzerte/orgel-ohne-grenzen/
ATTACH;FMTTYPE=image/jpeg:https://www.orgelland.at/wp-content/uploads/2025/07/31_O-scaled.jpg
END:VEVENT
BEGIN:VEVENT
DTSTART;TZID=Europe/Vienna:20250713T190000
DTEND;TZID=Europe/Vienna:20250713T203000
DTSTAMP:20260425T203514
CREATED:20250712T102315Z
LAST-MODIFIED:20250712T163318Z
UID:2651-1752433200-1752438600@www.orgelland.at
SUMMARY:Con spirito
DESCRIPTION:Sonntag\, 13. Juli 2025\, 19:00Evangelische Johanneskirche\, Klagenfurt \n\n\n\nLukas Euler • Orgel \n\n\n\nFotoaufnahmen während des Deutschen Musikwettbewerbs Wertungsrunde Orgel am 06.08.2022 in der Kirche St. Simon und Judas in Hennef\, ©https://heikefischer-fotografie.de\n\n\n\nProgramm: \n\n\n\nNikolaus Bruhns (1665 – 1697) Praeludium in G \n\n\n\nGeorg Böhm (1661 – 1733) Choralbearbeitung „Vater unser im Himmelreich“ \n\n\n\nJohann Sebastian Bach (1685 – 1750) Präludium und Fuge a-Moll BWV 543 \n\n\n\nClaude Debussy (1862 – 1918)Clair de lune aus „Suite bergamasque“ (Bearbeitung für Orgel: Alexandre Céllier) \n\n\n\nDezsö Antalffy-Zsiross (1885 – 1945)aus 4 Pieces for organII. Sportive faunes (nach einem Gemälde von Arnold Böcklin) \n\n\n\nSigfrid Karg-Elert (1877 – 1933)Die schilfbewachsenen Wasser aus „Pastelle vom Bodensee“ Op. 96 \n\n\n\nGuy Bovet (*1942)Salamanca  aus „Trois Préludes Hambourgeois“ \n\n\n\nFranz Liszt (1811 – 1886)Präludium und Fuge über B-A-C-H                                    \n\n\n\n\n\n\n\nLukas Euler  \n\n\n\nLukas Euler\, geboren 1996 in Neustadt/Weinstraße\, ist seit 2022 Kirchenmusiker an der Pauluskirche Darmstadt und seit November 2023 als Gastprofessor für Orgel an der Hochschule für Musik und Darstellende Kunst Frankfurt tätig. Zudem ist er Dozent für Orgel am Institut für Kirchenmusik des Bistums Mainz und geht einer regen Konzerttätigkeit in Deutschland sowie im Europäischen Ausland nach.   \n\n\n\nVon 2020 bis 2022 war er Assistenzorganist an der Thomaskirche Leipzig und Lehrkraft für Orgel am Forum Thomanum Leipzig.  \n\n\n\nNach drei 1. Bundespreisen bei „Jugend musiziert“ wurde er Preisträger mehrerer internationaler Orgelwettbewerbe\, darunter Mikail-Tariverdiev Orgelwettbewerb Kaliningrad/RUS\, Northern-Ireland-International-Organ-Competition\, Hermann-Schroeder-Wettbewerb Trier\, Orgelwettbewerb FUGATO Bad Homburg\, Concours d’orgue Dudelange und Kurt-Boßler-Wettbewerb Freiburg. Er erhielt Stipendien beim Deutschen Musikwettbewerb (2022)\, beim Evangelischen Studienwerk Villigst und bei der Jürgen-Ponto-Stiftung. Konzertreisen führten ihn neben zentralen Kirchen in Deutschland (Stiftskirche Stuttgart\, St. Lorenz Nürnberg\, Nikolaikirche Leipzig\, Dome zu Worms\, Fulda und Essen) nach Belgien\, Großbritannien\, Frankreich\, Österreich und Russland.   \n\n\n\nDas Studium der Kirchenmusik\, Klavier und Orgel (Meisterklassenexamen) absolvierte er mit mehreren Auszeichnungen in Freiburg und Leipzig. Schüler seiner Orgelklasse sind Preisträger mehrerer Wettbewerbe (u. a. Bundeswettbewerb „Jugend musiziert“).  
URL:https://www.orgelland.at/konzerte/con-spirito/
ATTACH;FMTTYPE=image/jpeg:https://www.orgelland.at/wp-content/uploads/2025/07/MG_1664_kleiner.jpg
END:VEVENT
END:VCALENDAR