BEGIN:VCALENDAR
VERSION:2.0
PRODID:-//Orgelland Carinthia - ECPv6.15.20//NONSGML v1.0//EN
CALSCALE:GREGORIAN
METHOD:PUBLISH
X-ORIGINAL-URL:https://www.orgelland.at
X-WR-CALDESC:Veranstaltungen für Orgelland Carinthia
REFRESH-INTERVAL;VALUE=DURATION:PT1H
X-Robots-Tag:noindex
X-PUBLISHED-TTL:PT1H
BEGIN:VTIMEZONE
TZID:Europe/Vienna
BEGIN:DAYLIGHT
TZOFFSETFROM:+0100
TZOFFSETTO:+0200
TZNAME:CEST
DTSTART:20240331T010000
END:DAYLIGHT
BEGIN:STANDARD
TZOFFSETFROM:+0200
TZOFFSETTO:+0100
TZNAME:CET
DTSTART:20241027T010000
END:STANDARD
BEGIN:DAYLIGHT
TZOFFSETFROM:+0100
TZOFFSETTO:+0200
TZNAME:CEST
DTSTART:20250330T010000
END:DAYLIGHT
BEGIN:STANDARD
TZOFFSETFROM:+0200
TZOFFSETTO:+0100
TZNAME:CET
DTSTART:20251026T010000
END:STANDARD
BEGIN:DAYLIGHT
TZOFFSETFROM:+0100
TZOFFSETTO:+0200
TZNAME:CEST
DTSTART:20260329T010000
END:DAYLIGHT
BEGIN:STANDARD
TZOFFSETFROM:+0200
TZOFFSETTO:+0100
TZNAME:CET
DTSTART:20261025T010000
END:STANDARD
END:VTIMEZONE
BEGIN:VEVENT
DTSTART;TZID=Europe/Vienna:20250411T190000
DTEND;TZID=Europe/Vienna:20250411T203000
DTSTAMP:20260426T005858
CREATED:20250310T185513Z
LAST-MODIFIED:20250310T190431Z
UID:2552-1744398000-1744403400@www.orgelland.at
SUMMARY:Orgelmusik zur Fastenzeit
DESCRIPTION:GEISTLICHE ABENDMUSIK VILLACH 2025 \n\n\n\nFreitag\, 11. April 2025\, 19:00Evangelische Kirche im Stadtpark\, Villach \n\n\n\nElmo Cosentini • Orgel \n\n\n\nFreier Eintritt\, Spenden erbeten. \n\n\n\n\n\n\n\n\n\n\n\n\n\n\n\n\n\nDer gebürtige Wiener Elmo Cosentini studierte an der Musikhochschule seiner Heimatstadt Orgel bei Peter Planyavsky\, Klavier\, Orchesterdirigieren\, Komposition sowie Kirchenmusik und absolvierte Orgelmeisterkurse (bei M. Chapuis\, X. Darasse\, P. Kee\, E. Kooiman\, T. Koopman\, D. Roth); seine schon zu Studienzeiten begonnene Konzerttätigkeit führte durch Europa (u. A. Dom St. Stephan\, Wien; Kaiser Wilhelm Gedächtniskirche\, Berlin; Notre Dame de Paris; Rīgas Doms; Saint Paul’s Cathedral\, London)\, in die USA\, nach China\, Australien\, Neuseeland und Südafrika. Nach seinen Studienabschlüssen war er als Kapellmeister am Stadttheater Klagenfurt tätig.
URL:https://www.orgelland.at/konzerte/orgelmusik-zur-fastenzeit/
CATEGORIES:Geistliche Abendmusik Villach
ATTACH;FMTTYPE=image/jpeg:https://www.orgelland.at/wp-content/uploads/2024/12/Hong-Kong-Cultural-Centre-V-2015-scaled.jpg
END:VEVENT
END:VCALENDAR