BEGIN:VCALENDAR
VERSION:2.0
PRODID:-//Orgelland Carinthia - ECPv6.15.20//NONSGML v1.0//EN
CALSCALE:GREGORIAN
METHOD:PUBLISH
X-WR-CALNAME:Orgelland Carinthia
X-ORIGINAL-URL:https://www.orgelland.at
X-WR-CALDESC:Veranstaltungen für Orgelland Carinthia
REFRESH-INTERVAL;VALUE=DURATION:PT1H
X-Robots-Tag:noindex
X-PUBLISHED-TTL:PT1H
BEGIN:VTIMEZONE
TZID:Europe/Vienna
BEGIN:DAYLIGHT
TZOFFSETFROM:+0100
TZOFFSETTO:+0200
TZNAME:CEST
DTSTART:20250330T010000
END:DAYLIGHT
BEGIN:STANDARD
TZOFFSETFROM:+0200
TZOFFSETTO:+0100
TZNAME:CET
DTSTART:20251026T010000
END:STANDARD
BEGIN:DAYLIGHT
TZOFFSETFROM:+0100
TZOFFSETTO:+0200
TZNAME:CEST
DTSTART:20260329T010000
END:DAYLIGHT
BEGIN:STANDARD
TZOFFSETFROM:+0200
TZOFFSETTO:+0100
TZNAME:CET
DTSTART:20261025T010000
END:STANDARD
BEGIN:DAYLIGHT
TZOFFSETFROM:+0100
TZOFFSETTO:+0200
TZNAME:CEST
DTSTART:20270328T010000
END:DAYLIGHT
BEGIN:STANDARD
TZOFFSETFROM:+0200
TZOFFSETTO:+0100
TZNAME:CET
DTSTART:20271031T010000
END:STANDARD
END:VTIMEZONE
BEGIN:VEVENT
DTSTART;TZID=Europe/Vienna:20260709T190000
DTEND;TZID=Europe/Vienna:20260709T203000
DTSTAMP:20260421T214922
CREATED:20260407T164601Z
LAST-MODIFIED:20260407T174850Z
UID:3138-1783623600-1783629000@www.orgelland.at
SUMMARY:Der Ochse auf dem Dach 
DESCRIPTION:Geistliche Abendmusik 2026 \n\n\n\nDonnerstag\, 9. Juli 2026\, Beginn: 19:00Trio AOIDE – Gerda Anderluh\, Christoph Hofer\, Helmut Stiegler Violoncello\, Akkordeon\, Violine \n\n\n\n\n\n\n\nProgramm: \n\n\n\nfolgt demnächst
URL:https://www.orgelland.at/konzerte/der-ochse-auf-dem-dach/
CATEGORIES:Geistliche Abendmusik Villach,Konzert
ATTACH;FMTTYPE=image/jpeg:https://www.orgelland.at/wp-content/uploads/2026/04/aoide2020klein.jpg
END:VEVENT
END:VCALENDAR