BEGIN:VCALENDAR
VERSION:2.0
PRODID:-//Orgelland Carinthia - ECPv6.15.20//NONSGML v1.0//EN
CALSCALE:GREGORIAN
METHOD:PUBLISH
X-WR-CALNAME:Orgelland Carinthia
X-ORIGINAL-URL:https://www.orgelland.at
X-WR-CALDESC:Veranstaltungen für Orgelland Carinthia
REFRESH-INTERVAL;VALUE=DURATION:PT1H
X-Robots-Tag:noindex
X-PUBLISHED-TTL:PT1H
BEGIN:VTIMEZONE
TZID:Europe/Vienna
BEGIN:DAYLIGHT
TZOFFSETFROM:+0100
TZOFFSETTO:+0200
TZNAME:CEST
DTSTART:20240331T010000
END:DAYLIGHT
BEGIN:STANDARD
TZOFFSETFROM:+0200
TZOFFSETTO:+0100
TZNAME:CET
DTSTART:20241027T010000
END:STANDARD
BEGIN:DAYLIGHT
TZOFFSETFROM:+0100
TZOFFSETTO:+0200
TZNAME:CEST
DTSTART:20250330T010000
END:DAYLIGHT
BEGIN:STANDARD
TZOFFSETFROM:+0200
TZOFFSETTO:+0100
TZNAME:CET
DTSTART:20251026T010000
END:STANDARD
BEGIN:DAYLIGHT
TZOFFSETFROM:+0100
TZOFFSETTO:+0200
TZNAME:CEST
DTSTART:20260329T010000
END:DAYLIGHT
BEGIN:STANDARD
TZOFFSETFROM:+0200
TZOFFSETTO:+0100
TZNAME:CET
DTSTART:20261025T010000
END:STANDARD
END:VTIMEZONE
BEGIN:VEVENT
DTSTART;TZID=Europe/Vienna:20250314T190000
DTEND;TZID=Europe/Vienna:20250314T203000
DTSTAMP:20260426T033756
CREATED:20250310T191300Z
LAST-MODIFIED:20250310T193806Z
UID:2561-1741978800-1741984200@www.orgelland.at
SUMMARY:Musik gibt Hoffnung
DESCRIPTION:GEISTLICHE ABENDMUSIK VILLACH 2025 \n\n\n\nFreitag\, 14. März 2025\, Beginn 19:00 \n\n\n\nCARINTHIA SAXOPHON QUARTETTGilbert Sabitzer – Sopran- und AltsaxophonGerhard Lippauer – AltsaxophonRudolf Kaimbacher – TenorsaxophonGünter Lenart – Baritonsaxophon \n\n\nPROGRAMM\n\n\nProgramm_Eindruck Carinthia Saxophonquartett 2025Herunterladen\n\n\n\n\n\n\n\nDas Carinthia Saxophon Quartett belebt seit 1988 das Kärntner Kulturleben (Carinthischer Sommer\, Musikwochen Millstatt\, St. Pauler Kultursommer\, Wiener Konzerthaus…) und fungierte im Laufe der Jahre immer wieder als Kulturbotschafter im Ausland – beispielsweise 1997 mit einer Amerikatournee in Las Vegas\, New York\, Washington und Chicago\, um zeitgenössische Österreichische Musik für klassisches Saxophonquartett vorzustellen\, 2005 beim Canberra International Chamber Music Festival\, wo unter anderem auch Bearbeitungen von Kärntnerliedern auf dem Programm standen oder in Zusammenarbeit mit dem „Teatro Potlach“ oder dem „Odin Teatret“ in Italien\, Großbritannien und Dänemark.
URL:https://www.orgelland.at/konzerte/musik-gibt-hoffnung/
END:VEVENT
END:VCALENDAR